BEGIN:VCALENDAR
VERSION:2.0
PRODID:-//Plone.org//NONSGML plone.app.event//EN
X-WR-TIMEZONE:Europe/Madrid
BEGIN:VEVENT
SUMMARY:Inici del cribatge del càncer de colon i recte. Zona Morera - Pom
 ar
DTSTART;TZID=Europe/Madrid:20260420T080000
DTEND;TZID=Europe/Madrid:20260428T230000
DTSTAMP:20260423T132445Z
UID:33e3e3f65f5d496f8372653b7705235d@www.badalona.cat
CREATED:20260423T080541Z
LAST-MODIFIED:20260423T081759Z
URL:https://www.badalona.cat/ca/serveis-ajuntament/sanitat-i-salut/agenda/
 inici-del-cribatge-del-cancer-de-colon-i-recte
END:VEVENT
BEGIN:VTIMEZONE
TZID:Europe/Madrid
X-LIC-LOCATION:Europe/Madrid
BEGIN:DAYLIGHT
DTSTART:20260329T030000
TZNAME:CEST
TZOFFSETFROM:+0100
TZOFFSETTO:+0200
END:DAYLIGHT
END:VTIMEZONE
END:VCALENDAR
