BEGIN:VCALENDAR
VERSION:2.0
PRODID:-//Plone.org//NONSGML plone.app.event//EN
X-WR-TIMEZONE:Europe/Madrid
BEGIN:VEVENT
SUMMARY:Donació de sang
DTSTART;TZID=Europe/Madrid:20240618T090000
DTEND;TZID=Europe/Madrid:20240618T230000
DTSTAMP:20260421T224033Z
UID:be6e9ad4c10442dc9a705f8d5dd4a0a3@www.badalona.cat
CREATED:20240603T070754Z
DESCRIPTION:Dimarts 18 de juny\nDe 17 a 21h\nBus a la Plaça dels Països 
 Catalans
LAST-MODIFIED:20241007T082525Z
URL:https://www.badalona.cat/ca/serveis-ajuntament/sanitat-i-salut/agenda/
 donacio-de-sang
END:VEVENT
BEGIN:VTIMEZONE
TZID:Europe/Madrid
X-LIC-LOCATION:Europe/Madrid
BEGIN:DAYLIGHT
DTSTART:20240331T030000
TZNAME:CEST
TZOFFSETFROM:+0100
TZOFFSETTO:+0200
END:DAYLIGHT
END:VTIMEZONE
END:VCALENDAR
