BEGIN:VCALENDAR
VERSION:2.0
PRODID:-//Plone.org//NONSGML plone.app.event//EN
X-WR-TIMEZONE:Europe/Madrid
BEGIN:VEVENT
SUMMARY:Campanya donació de sang
DTSTART;TZID=Europe/Madrid:20240908T080000
DTEND;TZID=Europe/Madrid:20240908T230000
DTSTAMP:20260420T062957Z
UID:9fa0856db2f44e58a856b87a4b900bc5@www.badalona.cat
CREATED:20240912T083317Z
LAST-MODIFIED:20240912T095318Z
URL:https://www.badalona.cat/ca/serveis-ajuntament/sanitat-i-salut/agenda/
 campanya-donacio-de-sang
END:VEVENT
BEGIN:VTIMEZONE
TZID:Europe/Madrid
X-LIC-LOCATION:Europe/Madrid
BEGIN:DAYLIGHT
DTSTART:20240331T030000
TZNAME:CEST
TZOFFSETFROM:+0100
TZOFFSETTO:+0200
END:DAYLIGHT
END:VTIMEZONE
END:VCALENDAR
