BEGIN:VCALENDAR
VERSION:2.0
PRODID:-//Plone.org//NONSGML plone.app.event//EN
X-WR-TIMEZONE:Europe/Madrid
BEGIN:VEVENT
SUMMARY:Parlar de sexualitat amb adolescents. Taller per a famílies
DTSTART;TZID=Europe/Madrid:20260127T180000
DTEND;TZID=Europe/Madrid:20260127T193000
DTSTAMP:20260424T022951Z
UID:e45e745815ca40cf9403a66bfd8f48b5@www.badalona.cat
CREATED:20260109T090430Z
DESCRIPTION:Taller amb eines i recursos per a famílies per abordar la sex
 ualitat adolescent des d’una mirada oberta\, respectuosa i de confiança
 .
LAST-MODIFIED:20260119T083204Z
URL:https://www.badalona.cat/ca/serveis-ajuntament/joventut/agenda/parlar-
 de-sexualitat-amb-adolescents-taller-per-a-families
END:VEVENT
BEGIN:VTIMEZONE
TZID:Europe/Madrid
X-LIC-LOCATION:Europe/Madrid
BEGIN:STANDARD
DTSTART:20251026T020000
TZNAME:CET
TZOFFSETFROM:+0200
TZOFFSETTO:+0100
END:STANDARD
END:VTIMEZONE
END:VCALENDAR
