BEGIN:VCALENDAR
VERSION:2.0
PRODID:-//Plone.org//NONSGML plone.app.event//EN
X-WR-TIMEZONE:Europe/Madrid
BEGIN:VEVENT
SUMMARY:Estudiem de nit
DTSTART;VALUE=DATE:20260107
DTEND;VALUE=DATE:20260211
DTSTAMP:20260424T021815Z
UID:24e721dca22b40508f13590f10699e4f@www.badalona.cat
CREATED:20260105T084144Z
DESCRIPTION:Estudiem de nit
LAST-MODIFIED:20260107T133135Z
URL:https://www.badalona.cat/ca/serveis-ajuntament/joventut/agenda/estudie
 m-de-nit
END:VEVENT
END:VCALENDAR
