BEGIN:VCALENDAR
VERSION:2.0
PRODID:-//Plone.org//NONSGML plone.app.event//EN
X-WR-TIMEZONE:Europe/Madrid
BEGIN:VEVENT
SUMMARY:Descobreix oportunitats de mobilitat a l’estranger
DTSTART;TZID=Europe/Madrid:20260129T110000
DTEND;TZID=Europe/Madrid:20260129T123000
DTSTAMP:20260424T032843Z
UID:e19ecbbd78fb4518b3c8d325455702c5@www.badalona.cat
CREATED:20260109T091222Z
DESCRIPTION:Taller sobre opcions de mobilitat internacional per a joves\, 
 amb projectes i formacions accessibles sense experiència prèvia.
LAST-MODIFIED:20260113T114747Z
URL:https://www.badalona.cat/ca/serveis-ajuntament/joventut/agenda/descobr
 eix-oportunitats-de-mobilitat-a-lestranger
END:VEVENT
BEGIN:VTIMEZONE
TZID:Europe/Madrid
X-LIC-LOCATION:Europe/Madrid
BEGIN:STANDARD
DTSTART:20251026T020000
TZNAME:CET
TZOFFSETFROM:+0200
TZOFFSETTO:+0100
END:STANDARD
END:VTIMEZONE
END:VCALENDAR
