BEGIN:VCALENDAR
VERSION:2.0
PRODID:-//Plone.org//NONSGML plone.app.event//EN
X-WR-TIMEZONE:Europe/Madrid
BEGIN:VEVENT
SUMMARY:Consum de substàncies: mites i veritats
DTSTART;TZID=Europe/Madrid:20260128T120000
DTEND;TZID=Europe/Madrid:20260128T133000
DTSTAMP:20260424T032558Z
UID:8af70f8892eb41ee9fa604c9fc2891de@www.badalona.cat
CREATED:20260109T091013Z
DESCRIPTION:Taller per distingir mites i realitat sobre el consum\, en un 
 espai de confiança per resoldre dubtes i preguntes\, adaptat a cada grup.
LAST-MODIFIED:20260109T105413Z
URL:https://www.badalona.cat/ca/serveis-ajuntament/joventut/agenda/consum-
 de-substancies-mites-i-veritats
END:VEVENT
BEGIN:VTIMEZONE
TZID:Europe/Madrid
X-LIC-LOCATION:Europe/Madrid
BEGIN:STANDARD
DTSTART:20251026T020000
TZNAME:CET
TZOFFSETFROM:+0200
TZOFFSETTO:+0100
END:STANDARD
END:VTIMEZONE
END:VCALENDAR
