BEGIN:VCALENDAR
VERSION:2.0
PRODID:-//Plone.org//NONSGML plone.app.event//EN
X-WR-TIMEZONE:Europe/Madrid
BEGIN:VEVENT
SUMMARY:Brúixola afectiva: vincles sense embolics
DTSTART;TZID=Europe/Madrid:20260126T180000
DTEND;TZID=Europe/Madrid:20260126T193000
DTSTAMP:20260424T032538Z
UID:acbf6a1c349945239fba255976eb1e3d@www.badalona.cat
CREATED:20260109T090202Z
DESCRIPTION:Taller per a reflexionar sobre com ens vinculem i explorant re
 lacions afectives més sanes des de les cures i l’assertivitat.
LAST-MODIFIED:20260113T114259Z
URL:https://www.badalona.cat/ca/serveis-ajuntament/joventut/agenda/bruixol
 a-afectiva-vincles-sense-embolics
END:VEVENT
BEGIN:VTIMEZONE
TZID:Europe/Madrid
X-LIC-LOCATION:Europe/Madrid
BEGIN:STANDARD
DTSTART:20251026T020000
TZNAME:CET
TZOFFSETFROM:+0200
TZOFFSETTO:+0100
END:STANDARD
END:VTIMEZONE
END:VCALENDAR
