BEGIN:VCALENDAR
VERSION:2.0
PRODID:-//Plone.org//NONSGML plone.app.event//EN
X-WR-TIMEZONE:Europe/Madrid
BEGIN:VEVENT
SUMMARY:La capsa de les meravelles vegetals: Parlen els arbres?
DTSTART;TZID=Europe/Madrid:20260528T173000
DTEND;TZID=Europe/Madrid:20260528T183000
DTSTAMP:20260420T142204Z
UID:c281f5fda09c4181901d6027266f98f5@www.badalona.cat
CATEGORIES:badabiblios,Activitats culturals
CREATED:20260420T090544Z
DESCRIPTION:Biblioteca Can Casacuberta
LAST-MODIFIED:20260420T090716Z
URL:https://www.badalona.cat/ca/serveis-ajuntament/cultura/badabiblios/age
 nda/la-capsa-de-les-meravelles-vegetals-parlen-els-arbres
END:VEVENT
BEGIN:VTIMEZONE
TZID:Europe/Madrid
X-LIC-LOCATION:Europe/Madrid
BEGIN:DAYLIGHT
DTSTART:20260329T030000
TZNAME:CEST
TZOFFSETFROM:+0100
TZOFFSETTO:+0200
END:DAYLIGHT
END:VTIMEZONE
END:VCALENDAR
