BEGIN:VCALENDAR
VERSION:2.0
PRODID:-//Plone.org//NONSGML plone.app.event//EN
X-WR-TIMEZONE:Europe/Madrid
BEGIN:VEVENT
SUMMARY:Hi havia una una vegada... Dia Mundial de la Narració Oral - Hora
  del conte i taller
DTSTART;TZID=Europe/Madrid:20260318T180000
DTEND;TZID=Europe/Madrid:20260318T190000
DTSTAMP:20260422T201400Z
UID:367f8d227c21482f8dc07521cb1cc3ef@www.badalona.cat
CATEGORIES:badabiblios,cultura,biblioteques,biblioteca llefià-xavier soto
CREATED:20260228T102124Z
DESCRIPTION:Biblioteca Llefià-Xavier Soto
LAST-MODIFIED:20260302T133941Z
URL:https://www.badalona.cat/ca/serveis-ajuntament/cultura/badabiblios/age
 nda/hi-havia-una-una-vegada-dia-mundial-de-la-narracio-oral-hora-del-conte
END:VEVENT
BEGIN:VTIMEZONE
TZID:Europe/Madrid
X-LIC-LOCATION:Europe/Madrid
BEGIN:STANDARD
DTSTART:20251026T020000
TZNAME:CET
TZOFFSETFROM:+0200
TZOFFSETTO:+0100
END:STANDARD
END:VTIMEZONE
END:VCALENDAR
