BEGIN:VCALENDAR
VERSION:2.0
PRODID:-//Plone.org//NONSGML plone.app.event//EN
X-WR-TIMEZONE:Europe/Madrid
BEGIN:VEVENT
SUMMARY:Més digitals: Ens movem pel món digital - Formació
DTSTART;TZID=Europe/Madrid:20260505T100000
DTEND;TZID=Europe/Madrid:20260521T123000
DTSTAMP:20260424T033234Z
UID:c97bb4efed8b475ca542dca375d10082@www.badalona.cat
CATEGORIES:Badabiblios,Cultura,Biblioteques,Biblioteca Llefià-Xavier Soto
CREATED:20260309T164157Z
DESCRIPTION:Biblioteca Llefià-Xavier Soto
LAST-MODIFIED:20260420T163519Z
URL:https://www.badalona.cat/ca/serveis-ajuntament/cultura/badabiblios/age
 nda/en-catala-llegim-i-parlem-trobada-amb-lautora-nadia-ghulam
END:VEVENT
BEGIN:VTIMEZONE
TZID:Europe/Madrid
X-LIC-LOCATION:Europe/Madrid
BEGIN:DAYLIGHT
DTSTART:20260329T030000
TZNAME:CEST
TZOFFSETFROM:+0100
TZOFFSETTO:+0200
END:DAYLIGHT
END:VTIMEZONE
END:VCALENDAR
