BEGIN:VCALENDAR
VERSION:2.0
PRODID:-//Plone.org//NONSGML plone.app.event//EN
X-WR-TIMEZONE:Europe/Madrid
BEGIN:VEVENT
SUMMARY:AMB Taller familiar: cura de plantes amb materials reciclats
DTSTART;TZID=Europe/Madrid:20260514T173000
DTEND;TZID=Europe/Madrid:20260514T190000
DTSTAMP:20260420T143545Z
UID:c6044e7a7347472fb62c935590a70178@www.badalona.cat
CATEGORIES:badabiblios,Activitats culturals
CREATED:20260420T085539Z
DESCRIPTION:Biblioteca Can Casacuberta
LAST-MODIFIED:20260420T085617Z
URL:https://www.badalona.cat/ca/serveis-ajuntament/cultura/badabiblios/age
 nda/amb-taller-familiar-cura-de-plantes-amb-materials-reciclats
END:VEVENT
BEGIN:VTIMEZONE
TZID:Europe/Madrid
X-LIC-LOCATION:Europe/Madrid
BEGIN:DAYLIGHT
DTSTART:20260329T030000
TZNAME:CEST
TZOFFSETFROM:+0100
TZOFFSETTO:+0200
END:DAYLIGHT
END:VTIMEZONE
END:VCALENDAR
