BEGIN:VCALENDAR
VERSION:2.0
PRODID:-//Plone.org//NONSGML plone.app.event//EN
X-WR-TIMEZONE:Europe/Madrid
BEGIN:VEVENT
SUMMARY:Conversa amb Joan Vigó de “Vides potser” Espai Betúlia
DTSTART;TZID=Europe/Madrid:20260429T180000
DTEND;TZID=Europe/Madrid:20260429T190000
DTSTAMP:20260422T154750Z
UID:9ebb027e3680439694cde6a5f36e016e@www.badalona.cat
CATEGORIES:Cultura,Xarxa de Biblioteques,Joan Vigó
CREATED:20260422T093157Z
LAST-MODIFIED:20260422T122921Z
URL:https://www.badalona.cat/ca/serveis-ajuntament/cultura/agenda/parlem-d
 e-vides-potser-amb-joan-vigo
END:VEVENT
BEGIN:VTIMEZONE
TZID:Europe/Madrid
X-LIC-LOCATION:Europe/Madrid
BEGIN:DAYLIGHT
DTSTART:20260329T030000
TZNAME:CEST
TZOFFSETFROM:+0100
TZOFFSETTO:+0200
END:DAYLIGHT
END:VTIMEZONE
END:VCALENDAR
