BEGIN:VCALENDAR
VERSION:2.0
PRODID:-//Plone.org//NONSGML plone.app.event//EN
X-WR-TIMEZONE:Europe/Madrid
BEGIN:VEVENT
SUMMARY:Caps amb caràcter – Taula de capgrossos singulars. Taula rodon
 a
DTSTART;TZID=Europe/Madrid:20260326T190000
DTEND;TZID=Europe/Madrid:20260326T200000
DTSTAMP:20260424T033213Z
UID:e5f0eeb0ecb5492a81a032155800084d@www.badalona.cat
CATEGORIES:Cultura,Centre Cultural El Carme,Cultura popular
CREATED:20260305T132418Z
DESCRIPTION:Exposició Forjadors de la Festa: Capgrossos\, a l'ombra dels 
 gegants
LAST-MODIFIED:20260325T064225Z
URL:https://www.badalona.cat/ca/serveis-ajuntament/cultura/agenda/forjador
 s-de-la-festa-capgrossos-a-lombra-dels-gegants
END:VEVENT
BEGIN:VTIMEZONE
TZID:Europe/Madrid
X-LIC-LOCATION:Europe/Madrid
BEGIN:STANDARD
DTSTART:20251026T020000
TZNAME:CET
TZOFFSETFROM:+0200
TZOFFSETTO:+0100
END:STANDARD
END:VTIMEZONE
END:VCALENDAR
