BEGIN:VCALENDAR
VERSION:2.0
PRODID:-//Plone.org//NONSGML plone.app.event//EN
X-WR-TIMEZONE:Europe/Madrid
BEGIN:VEVENT
SUMMARY:Fira de l’Arrop - FESTES DE MAIG 2024
DTSTART;TZID=Europe/Madrid:20240519T090000
DTEND;TZID=Europe/Madrid:20240519T210000
DTSTAMP:20260421T175733Z
UID:57194909b1a34a4ea50cef61e619e338@www.badalona.cat
CATEGORIES:FESTES DE MAIG 2024,Altres Activitats
CREATED:20240419T102323Z
LAST-MODIFIED:20240515T073515Z
URL:https://www.badalona.cat/ca/serveis-ajuntament/cultura/agenda/fira-de-
 larrop-festes-de-maig-2024
END:VEVENT
BEGIN:VTIMEZONE
TZID:Europe/Madrid
X-LIC-LOCATION:Europe/Madrid
BEGIN:DAYLIGHT
DTSTART:20240331T030000
TZNAME:CEST
TZOFFSETFROM:+0100
TZOFFSETTO:+0200
END:DAYLIGHT
END:VTIMEZONE
END:VCALENDAR
