BEGIN:VCALENDAR
VERSION:2.0
PRODID:-//Plone.org//NONSGML plone.app.event//EN
X-WR-TIMEZONE:Europe/Madrid
BEGIN:VEVENT
SUMMARY:Fes el teu moc - bibliolab
DTSTART;TZID=Europe/Madrid:20241113T173000
DTEND;TZID=Europe/Madrid:20241113T183000
DTSTAMP:20260423T115724Z
UID:71f64516065a41eab236de2340c0c558@www.badalona.cat
CATEGORIES:Altres Activitats
CREATED:20241105T072304Z
LAST-MODIFIED:20241105T072305Z
URL:https://www.badalona.cat/ca/serveis-ajuntament/cultura/agenda/fes-el-t
 eu-moc-bibliolab
END:VEVENT
BEGIN:VTIMEZONE
TZID:Europe/Madrid
X-LIC-LOCATION:Europe/Madrid
BEGIN:STANDARD
DTSTART:20241027T020000
TZNAME:CET
TZOFFSETFROM:+0200
TZOFFSETTO:+0100
END:STANDARD
END:VTIMEZONE
END:VCALENDAR
