BEGIN:VCALENDAR
VERSION:2.0
PRODID:-//Plone.org//NONSGML plone.app.event//EN
X-WR-TIMEZONE:Europe/Madrid
BEGIN:VEVENT
SUMMARY:Exposició: Forjadors de la Festa. Capgrossos\, a l’ombra dels g
 egants
DTSTART;TZID=Europe/Madrid:20260307T160000
DTEND;TZID=Europe/Madrid:20260524T200000
DTSTAMP:20260424T023139Z
UID:72d8b6b6737b4e168986abedf302553b@www.badalona.cat
CATEGORIES:Cultura,Cultura popular,Centre Cultural El Carme
CREATED:20260309T103249Z
LAST-MODIFIED:20260325T074655Z
URL:https://www.badalona.cat/ca/serveis-ajuntament/cultura/agenda/exposici
 o-forjadors-de-la-festa-capgrossos-a-lombra-dels-gegants
END:VEVENT
BEGIN:VTIMEZONE
TZID:Europe/Madrid
X-LIC-LOCATION:Europe/Madrid
BEGIN:STANDARD
DTSTART:20251026T020000
TZNAME:CET
TZOFFSETFROM:+0200
TZOFFSETTO:+0100
END:STANDARD
BEGIN:DAYLIGHT
DTSTART:20260329T030000
TZNAME:CEST
TZOFFSETFROM:+0100
TZOFFSETTO:+0200
END:DAYLIGHT
END:VTIMEZONE
END:VCALENDAR
