BEGIN:VCALENDAR
VERSION:2.0
PRODID:-//Plone.org//NONSGML plone.app.event//EN
X-WR-TIMEZONE:Europe/Madrid
BEGIN:VEVENT
SUMMARY:Espectacle teatral: “El Ahorcado” i “Estación Matute” Cia
  Katalakaska
DTSTART;TZID=Europe/Madrid:20260605T190000
DTEND;TZID=Europe/Madrid:20260605T200000
DTSTAMP:20260422T164612Z
UID:d26d619e4ba84a3781e7f45897acd162@www.badalona.cat
CATEGORIES:Cultura,Cicle Teatre
CREATED:20260422T105244Z
LAST-MODIFIED:20260422T122758Z
URL:https://www.badalona.cat/ca/serveis-ajuntament/cultura/agenda/espectac
 le-teatral-el-ahorcado-i-estacion-matute-cia-katalakaska
END:VEVENT
BEGIN:VTIMEZONE
TZID:Europe/Madrid
X-LIC-LOCATION:Europe/Madrid
BEGIN:DAYLIGHT
DTSTART:20260329T030000
TZNAME:CEST
TZOFFSETFROM:+0100
TZOFFSETTO:+0200
END:DAYLIGHT
END:VTIMEZONE
END:VCALENDAR
