BEGIN:VCALENDAR
VERSION:2.0
PRODID:-//Plone.org//NONSGML plone.app.event//EN
X-WR-TIMEZONE:Europe/Madrid
BEGIN:VEVENT
SUMMARY:“El teatre naturalista” per Gerard Guerra
DTSTART;TZID=Europe/Madrid:20260520T183000
DTEND;TZID=Europe/Madrid:20260520T193000
DTSTAMP:20260422T164432Z
UID:239b2dc5ac034c53b61bb2357739e57d@www.badalona.cat
CREATED:20260422T104043Z
LAST-MODIFIED:20260422T122531Z
URL:https://www.badalona.cat/ca/serveis-ajuntament/cultura/agenda/el-teatr
 e-naturalista-per-gerard-guerra
END:VEVENT
BEGIN:VTIMEZONE
TZID:Europe/Madrid
X-LIC-LOCATION:Europe/Madrid
BEGIN:DAYLIGHT
DTSTART:20260329T030000
TZNAME:CEST
TZOFFSETFROM:+0100
TZOFFSETTO:+0200
END:DAYLIGHT
END:VTIMEZONE
END:VCALENDAR
