BEGIN:VCALENDAR
VERSION:2.0
PRODID:-//Plone.org//NONSGML plone.app.event//EN
X-WR-TIMEZONE:Europe/Madrid
BEGIN:VEVENT
SUMMARY:“El teatre èpic” per Francesc Foguet
DTSTART;TZID=Europe/Madrid:20260603T183000
DTEND;TZID=Europe/Madrid:20260603T193000
DTSTAMP:20260422T164406Z
UID:cc57f6a793fa47168e3efb7451e22236@www.badalona.cat
CATEGORIES:Cultura,cicle teatre,Espai Betúlia
CREATED:20260422T104916Z
LAST-MODIFIED:20260422T122719Z
URL:https://www.badalona.cat/ca/serveis-ajuntament/cultura/agenda/el-teatr
 e-epic-per-francesc-foguet
END:VEVENT
BEGIN:VTIMEZONE
TZID:Europe/Madrid
X-LIC-LOCATION:Europe/Madrid
BEGIN:DAYLIGHT
DTSTART:20260329T030000
TZNAME:CEST
TZOFFSETFROM:+0100
TZOFFSETTO:+0200
END:DAYLIGHT
END:VTIMEZONE
END:VCALENDAR
