BEGIN:VCALENDAR
VERSION:2.0
PRODID:-//Plone.org//NONSGML plone.app.event//EN
X-WR-TIMEZONE:Europe/Madrid
BEGIN:VEVENT
SUMMARY:“El teatre elisabetià” per Jordi Coca
DTSTART;TZID=Europe/Madrid:20260506T183000
DTEND;TZID=Europe/Madrid:20260506T193000
DTSTAMP:20260422T142847Z
UID:7d5fbd3630654e54b73f31f2c47928dd@www.badalona.cat
CATEGORIES:Cultura,Cicle teatre,Espai Betúlia
CREATED:20260422T092246Z
LAST-MODIFIED:20260422T122404Z
URL:https://www.badalona.cat/ca/serveis-ajuntament/cultura/agenda/el-teatr
 e-elisabetia-per-jordi-coca
END:VEVENT
BEGIN:VTIMEZONE
TZID:Europe/Madrid
X-LIC-LOCATION:Europe/Madrid
BEGIN:DAYLIGHT
DTSTART:20260329T030000
TZNAME:CEST
TZOFFSETFROM:+0100
TZOFFSETTO:+0200
END:DAYLIGHT
END:VTIMEZONE
END:VCALENDAR
