BEGIN:VCALENDAR
VERSION:2.0
PRODID:-//Plone.org//NONSGML plone.app.event//EN
X-WR-TIMEZONE:Europe/Madrid
BEGIN:VEVENT
SUMMARY:'Dir l'emergència: El futur en crisi' - Manifesta15+
DTSTART;TZID=Europe/Madrid:20241004T093000
DTEND;TZID=Europe/Madrid:20241111T200000
DTSTAMP:20260422T191842Z
UID:45fa364c427c4fa49bb4662d361cf60d@www.badalona.cat
CATEGORIES:Exposicions
CREATED:20240905T102340Z
LAST-MODIFIED:20240905T102341Z
URL:https://www.badalona.cat/ca/serveis-ajuntament/cultura/agenda/dir-leme
 rgencia-el-futur-en-crisi-manifesta15
END:VEVENT
BEGIN:VTIMEZONE
TZID:Europe/Madrid
X-LIC-LOCATION:Europe/Madrid
BEGIN:DAYLIGHT
DTSTART:20240331T030000
TZNAME:CEST
TZOFFSETFROM:+0100
TZOFFSETTO:+0200
END:DAYLIGHT
BEGIN:STANDARD
DTSTART:20241027T020000
TZNAME:CET
TZOFFSETFROM:+0200
TZOFFSETTO:+0100
END:STANDARD
END:VTIMEZONE
END:VCALENDAR
