BEGIN:VCALENDAR
VERSION:2.0
PRODID:-//Plone.org//NONSGML plone.app.event//EN
X-WR-TIMEZONE:Europe/Madrid
BEGIN:VEVENT
SUMMARY:“De les avantguardes al Nou Teatre (d’Alfred Jarry a Eugène I
 onesco)” per Anna Corral Fullà
DTSTART;TZID=Europe/Madrid:20260527T183000
DTEND;TZID=Europe/Madrid:20260527T193000
DTSTAMP:20260422T164710Z
UID:0f67a27151194e5c96343e45a3ea4776@www.badalona.cat
CATEGORIES:Cultura,Cicle de Teatre
CREATED:20260422T104520Z
LAST-MODIFIED:20260422T122637Z
URL:https://www.badalona.cat/ca/serveis-ajuntament/cultura/agenda/de-les-a
 vantguardes-al-nou-teatre-dalfred-jarry-a-eugene-ionesco-per-anna-corral-f
 ulla
END:VEVENT
BEGIN:VTIMEZONE
TZID:Europe/Madrid
X-LIC-LOCATION:Europe/Madrid
BEGIN:DAYLIGHT
DTSTART:20260329T030000
TZNAME:CEST
TZOFFSETFROM:+0100
TZOFFSETTO:+0200
END:DAYLIGHT
END:VTIMEZONE
END:VCALENDAR
