BEGIN:VCALENDAR
VERSION:2.0
PRODID:-//Plone.org//NONSGML plone.app.event//EN
X-WR-TIMEZONE:Europe/Madrid
BEGIN:VEVENT
SUMMARY:Conversa: El teatre des de dins amb Gemma Brió\, Sara Q. Pipó. M
 odera: Nil Martín
DTSTART;TZID=Europe/Madrid:20260609T183000
DTEND;TZID=Europe/Madrid:20260609T193000
DTSTAMP:20260422T164550Z
UID:c8e3c91f97db41469203d18d989d09c9@www.badalona.cat
CATEGORIES:Cultura,Cicle de Teatre Espai Betúlia
CREATED:20260422T111031Z
LAST-MODIFIED:20260422T122829Z
URL:https://www.badalona.cat/ca/serveis-ajuntament/cultura/agenda/conversa
 -el-teatre-des-de-dins-amb-gemma-brio-sara-q-pipo-modera-nil-martin
END:VEVENT
BEGIN:VTIMEZONE
TZID:Europe/Madrid
X-LIC-LOCATION:Europe/Madrid
BEGIN:DAYLIGHT
DTSTART:20260329T030000
TZNAME:CEST
TZOFFSETFROM:+0100
TZOFFSETTO:+0200
END:DAYLIGHT
END:VTIMEZONE
END:VCALENDAR
