BEGIN:VCALENDAR
VERSION:2.0
PRODID:-//Plone.org//NONSGML plone.app.event//EN
X-WR-TIMEZONE:Europe/Madrid
BEGIN:VEVENT
SUMMARY:Concert: L’Arannà
DTSTART;TZID=Europe/Madrid:20260507T190000
DTEND;TZID=Europe/Madrid:20260507T200000
DTSTAMP:20260422T181238Z
UID:2d4b51f572da4dfe986354a6d88a6ac0@www.badalona.cat
CREATED:20260422T120336Z
LAST-MODIFIED:20260422T123954Z
URL:https://www.badalona.cat/ca/serveis-ajuntament/cultura/agenda/concert-
 laranna
END:VEVENT
BEGIN:VTIMEZONE
TZID:Europe/Madrid
X-LIC-LOCATION:Europe/Madrid
BEGIN:DAYLIGHT
DTSTART:20260329T030000
TZNAME:CEST
TZOFFSETFROM:+0100
TZOFFSETTO:+0200
END:DAYLIGHT
END:VTIMEZONE
END:VCALENDAR
