BEGIN:VCALENDAR
VERSION:2.0
PRODID:-//Plone.org//NONSGML plone.app.event//EN
X-WR-TIMEZONE:Europe/Madrid
BEGIN:VEVENT
SUMMARY:Club de lectura 'Llibres amb història' - Llibreria Mitja Mosca
DTSTART;TZID=Europe/Madrid:20241009T193000
DTEND;TZID=Europe/Madrid:20250312T210000
DTSTAMP:20260424T185741Z
UID:5c6647597bd44a9ea20553fd1d9aaf0c@www.badalona.cat
CATEGORIES:Activitats literàries
CREATED:20240919T122338Z
LAST-MODIFIED:20240923T082936Z
URL:https://www.badalona.cat/ca/serveis-ajuntament/cultura/agenda/club-de-
 lectura-llibres-amb-historia-llibreria-mitja-mosca
END:VEVENT
BEGIN:VTIMEZONE
TZID:Europe/Madrid
X-LIC-LOCATION:Europe/Madrid
BEGIN:DAYLIGHT
DTSTART:20240331T030000
TZNAME:CEST
TZOFFSETFROM:+0100
TZOFFSETTO:+0200
END:DAYLIGHT
BEGIN:STANDARD
DTSTART:20241027T020000
TZNAME:CET
TZOFFSETFROM:+0200
TZOFFSETTO:+0100
END:STANDARD
END:VTIMEZONE
END:VCALENDAR
