BEGIN:VCALENDAR
VERSION:2.0
PRODID:-//Plone.org//NONSGML plone.app.event//EN
X-WR-TIMEZONE:Europe/Madrid
BEGIN:VEVENT
SUMMARY:Cicle de teatre “El teatre i el seu moment”
DTSTART;TZID=Europe/Madrid:20260506T183000
DTEND;TZID=Europe/Madrid:20260609T200000
DTSTAMP:20260421T155724Z
UID:9bd7f01e492b4939b7504714cf23420e@www.badalona.cat
CATEGORIES:Espai Betúlia,Cultura,Cicle de Teatre
CREATED:20260421T095441Z
LAST-MODIFIED:20260421T095758Z
URL:https://www.badalona.cat/ca/serveis-ajuntament/cultura/agenda/cicle-de
 -teatre-el-teatre-i-el-seu-moment
END:VEVENT
BEGIN:VTIMEZONE
TZID:Europe/Madrid
X-LIC-LOCATION:Europe/Madrid
BEGIN:DAYLIGHT
DTSTART:20260329T030000
TZNAME:CEST
TZOFFSETFROM:+0100
TZOFFSETTO:+0200
END:DAYLIGHT
END:VTIMEZONE
END:VCALENDAR
