BEGIN:VCALENDAR
VERSION:2.0
PRODID:-//Plone.org//NONSGML plone.app.event//EN
X-WR-TIMEZONE:Europe/Madrid
BEGIN:VEVENT
SUMMARY:Badalona il·lusió pel Nadal
DTSTART;TZID=Europe/Madrid:20251121T180000
DTEND;TZID=Europe/Madrid:20260105T180000
DTSTAMP:20260420T095211Z
UID:24cacb87514b48919d0c4191a46e0151@www.badalona.cat
CATEGORIES:Cultura,Nadal
CREATED:20251117T094520Z
LAST-MODIFIED:20251215T110040Z
URL:https://www.badalona.cat/ca/serveis-ajuntament/cultura/agenda/badalona
 -il-lusio-pel-nadal
END:VEVENT
BEGIN:VTIMEZONE
TZID:Europe/Madrid
X-LIC-LOCATION:Europe/Madrid
BEGIN:STANDARD
DTSTART:20251026T020000
TZNAME:CET
TZOFFSETFROM:+0200
TZOFFSETTO:+0100
END:STANDARD
END:VTIMEZONE
END:VCALENDAR
