BEGIN:VCALENDAR
VERSION:2.0
PRODID:-//Plone.org//NONSGML plone.app.event//EN
X-WR-TIMEZONE:Europe/Madrid
BEGIN:VEVENT
SUMMARY:149a Passada de  Sant Antoni Abat 2026
DTSTART;TZID=Europe/Madrid:20260215T113000
DTEND;TZID=Europe/Madrid:20260215T150000
DTSTAMP:20260424T022335Z
UID:e2fa8c0665c94fbea05803baed3953fe@www.badalona.cat
CATEGORIES:Activitats culturals,Cultura
CREATED:20260121T161535Z
LAST-MODIFIED:20260122T122840Z
URL:https://www.badalona.cat/ca/serveis-ajuntament/cultura/agenda/149a-pas
 sada-de-sant-antoni-abat-2026
END:VEVENT
BEGIN:VTIMEZONE
TZID:Europe/Madrid
X-LIC-LOCATION:Europe/Madrid
BEGIN:STANDARD
DTSTART:20251026T020000
TZNAME:CET
TZOFFSETFROM:+0200
TZOFFSETTO:+0100
END:STANDARD
END:VTIMEZONE
END:VCALENDAR
