BEGIN:VCALENDAR
VERSION:2.0
PRODID:-//Plone.org//NONSGML plone.app.event//EN
X-WR-TIMEZONE:Europe/Madrid
BEGIN:VEVENT
SUMMARY:III Jornada de pràctiques restauratives a Badalona
DTSTART;TZID=Europe/Madrid:20260205T170000
DTEND;TZID=Europe/Madrid:20260205T200000
DTSTAMP:20260426T032459Z
UID:fd4bfd4b264e47f593ebe85df877ea8c@www.badalona.cat
CATEGORIES:Centre civic
CREATED:20260115T125819Z
DESCRIPTION:Conferència-taller per aprofundir en l’aplicació pràctica
  de la Comunicació NoViolenta com a eina que promou l'empatia i l'entesa 
 interpersonal. L’espai està dissenyat per facilitar l’aplicació prà
 ctica i està obert a professionals de l’àmbit educatiu i social\, als 
 joves i a les famílies.
LAST-MODIFIED:20260119T105618Z
URL:https://www.badalona.cat/ca/serveis-ajuntament/civisme-convivencia-i-m
 ediacio/agenda/iii-jornada-de-practiques-restauratives-a-badalona
END:VEVENT
BEGIN:VTIMEZONE
TZID:Europe/Madrid
X-LIC-LOCATION:Europe/Madrid
BEGIN:STANDARD
DTSTART:20251026T020000
TZNAME:CET
TZOFFSETFROM:+0200
TZOFFSETTO:+0100
END:STANDARD
END:VTIMEZONE
END:VCALENDAR
