BEGIN:VCALENDAR
VERSION:2.0
PRODID:-//Plone.org//NONSGML plone.app.event//EN
X-WR-TIMEZONE:Europe/Madrid
BEGIN:VEVENT
SUMMARY:Festa Colors de la Convivència
DTSTART;VALUE=DATE:20251018
DTEND;VALUE=DATE:20251019
DTSTAMP:20260423T115845Z
UID:084db486c1db4546967ae1c0d031b2e9@www.badalona.cat
CREATED:20251014T092831Z
LAST-MODIFIED:20251014T093303Z
URL:https://www.badalona.cat/ca/serveis-ajuntament/civisme-convivencia-i-m
 ediacio/agenda/festa-colors-de-la-convivencia
END:VEVENT
END:VCALENDAR
