BEGIN:VCALENDAR
VERSION:2.0
PRODID:-//Plone.org//NONSGML plone.app.event//EN
X-WR-TIMEZONE:Europe/Madrid
BEGIN:VEVENT
SUMMARY:Club de Lectura: Especial Parcs i Biblioteques
DTSTART;TZID=Europe/Madrid:20231025T190000
DTEND;TZID=Europe/Madrid:20231025T200000
DTSTAMP:20260424T021417Z
UID:dd27b7d430834061b944a17cb0b54a54@www.badalona.cat
CREATED:20231124T085415Z
LAST-MODIFIED:20231124T085415Z
URL:https://www.badalona.cat/ca/actualitat/agenda/35978
END:VEVENT
BEGIN:VTIMEZONE
TZID:Europe/Madrid
X-LIC-LOCATION:Europe/Madrid
BEGIN:DAYLIGHT
DTSTART:20230326T030000
TZNAME:CEST
TZOFFSETFROM:+0100
TZOFFSETTO:+0200
END:DAYLIGHT
END:VTIMEZONE
END:VCALENDAR
