BEGIN:VCALENDAR
VERSION:2.0
PRODID:-//Plone.org//NONSGML plone.app.event//EN
X-WR-TIMEZONE:Europe/Madrid
BEGIN:VEVENT
SUMMARY:CURS: CICLE D'ESPORT a la llibreria Mitja Mosca
DTSTART;TZID=Europe/Madrid:20231010T193000
DTEND;TZID=Europe/Madrid:20231024T203000
DTSTAMP:20260424T031734Z
UID:3c24ce27bfbf417d86a55c4e85a842cc@www.badalona.cat
CREATED:20231124T085414Z
LAST-MODIFIED:20231124T085414Z
URL:https://www.badalona.cat/ca/actualitat/agenda/35974
END:VEVENT
BEGIN:VTIMEZONE
TZID:Europe/Madrid
X-LIC-LOCATION:Europe/Madrid
BEGIN:DAYLIGHT
DTSTART:20230326T030000
TZNAME:CEST
TZOFFSETFROM:+0100
TZOFFSETTO:+0200
END:DAYLIGHT
END:VTIMEZONE
END:VCALENDAR
