BEGIN:VCALENDAR
VERSION:2.0
PRODID:-//Plone.org//NONSGML plone.app.event//EN
X-WR-TIMEZONE:Europe/Madrid
BEGIN:VEVENT
SUMMARY:"A la carretera"\, de Jack Kerouac. Per Joaquim Molina - 'El viatg
 e a la literatura'
DTSTART;TZID=Europe/Madrid:20231024T190000
DTEND;TZID=Europe/Madrid:20231024T203000
DTSTAMP:20260424T112317Z
UID:306109e5f04f449cb2dd70995b1798f9@www.badalona.cat
CREATED:20231124T085414Z
LAST-MODIFIED:20231124T085414Z
URL:https://www.badalona.cat/ca/actualitat/agenda/35973
END:VEVENT
BEGIN:VTIMEZONE
TZID:Europe/Madrid
X-LIC-LOCATION:Europe/Madrid
BEGIN:DAYLIGHT
DTSTART:20230326T030000
TZNAME:CEST
TZOFFSETFROM:+0100
TZOFFSETTO:+0200
END:DAYLIGHT
END:VTIMEZONE
END:VCALENDAR
