BEGIN:VCALENDAR
VERSION:2.0
PRODID:-//Plone.org//NONSGML plone.app.event//EN
X-WR-TIMEZONE:Europe/Madrid
BEGIN:VEVENT
SUMMARY:Ferides de pel·lícula - Taller: BiblioLab
DTSTART;TZID=Europe/Madrid:20231024T173000
DTEND;TZID=Europe/Madrid:20231024T190000
DTSTAMP:20260424T032317Z
UID:02fdc28c5d65488db6e73b332395f9dd@www.badalona.cat
CREATED:20231124T085414Z
LAST-MODIFIED:20231124T085414Z
URL:https://www.badalona.cat/ca/actualitat/agenda/35970
END:VEVENT
BEGIN:VTIMEZONE
TZID:Europe/Madrid
X-LIC-LOCATION:Europe/Madrid
BEGIN:DAYLIGHT
DTSTART:20230326T030000
TZNAME:CEST
TZOFFSETFROM:+0100
TZOFFSETTO:+0200
END:DAYLIGHT
END:VTIMEZONE
END:VCALENDAR
