BEGIN:VCALENDAR
VERSION:2.0
PRODID:-//Plone.org//NONSGML plone.app.event//EN
X-WR-TIMEZONE:Europe/Madrid
BEGIN:VEVENT
SUMMARY:La façana de la glòria de la Sagrada Família segons Gaudí
DTSTART;TZID=Europe/Madrid:20231024T180000
DTEND;TZID=Europe/Madrid:20231024T190000
DTSTAMP:20260424T021416Z
UID:2b9e20e179074f7ab33a74e7c7e7643a@www.badalona.cat
CREATED:20231124T085414Z
LAST-MODIFIED:20231124T085414Z
URL:https://www.badalona.cat/ca/actualitat/agenda/35969
END:VEVENT
BEGIN:VTIMEZONE
TZID:Europe/Madrid
X-LIC-LOCATION:Europe/Madrid
BEGIN:DAYLIGHT
DTSTART:20230326T030000
TZNAME:CEST
TZOFFSETFROM:+0100
TZOFFSETTO:+0200
END:DAYLIGHT
END:VTIMEZONE
END:VCALENDAR
