BEGIN:VCALENDAR
VERSION:2.0
PRODID:-//Plone.org//NONSGML plone.app.event//EN
X-WR-TIMEZONE:Europe/Madrid
BEGIN:VEVENT
SUMMARY:Autumna'23: Fira Medieval de tardor
DTSTART;TZID=Europe/Madrid:20231020T160000
DTEND;TZID=Europe/Madrid:20231022T210000
DTSTAMP:20260424T075217Z
UID:ad6d5514a60c470fa3cfda9227523bca@www.badalona.cat
CREATED:20231124T085414Z
LAST-MODIFIED:20231124T085414Z
URL:https://www.badalona.cat/ca/actualitat/agenda/35965
END:VEVENT
BEGIN:VTIMEZONE
TZID:Europe/Madrid
X-LIC-LOCATION:Europe/Madrid
BEGIN:DAYLIGHT
DTSTART:20230326T030000
TZNAME:CEST
TZOFFSETFROM:+0100
TZOFFSETTO:+0200
END:DAYLIGHT
END:VTIMEZONE
END:VCALENDAR
