BEGIN:VCALENDAR
VERSION:2.0
PRODID:-//Plone.org//NONSGML plone.app.event//EN
X-WR-TIMEZONE:Europe/Madrid
BEGIN:VEVENT
SUMMARY:Entre Libros y Letras - Presentació literària
DTSTART;TZID=Europe/Madrid:20231021T113000
DTEND;TZID=Europe/Madrid:20231021T130000
DTSTAMP:20260424T021509Z
UID:d8a1c5e9e18043349de399d3d0dd0f7a@www.badalona.cat
CREATED:20231124T085413Z
LAST-MODIFIED:20231124T085413Z
URL:https://www.badalona.cat/ca/actualitat/agenda/35960
END:VEVENT
BEGIN:VTIMEZONE
TZID:Europe/Madrid
X-LIC-LOCATION:Europe/Madrid
BEGIN:DAYLIGHT
DTSTART:20230326T030000
TZNAME:CEST
TZOFFSETFROM:+0100
TZOFFSETTO:+0200
END:DAYLIGHT
END:VTIMEZONE
END:VCALENDAR
