BEGIN:VCALENDAR
VERSION:2.0
PRODID:-//Plone.org//NONSGML plone.app.event//EN
X-WR-TIMEZONE:Europe/Madrid
BEGIN:VEVENT
SUMMARY:Visita guiada a l’exposició “Patria común. Delibes ilustrado
 ”
DTSTART;TZID=Europe/Madrid:20231023T190000
DTEND;TZID=Europe/Madrid:20231023T203000
DTSTAMP:20260424T055203Z
UID:66764333c38a450bb169dfcc1a2ee2dd@www.badalona.cat
CREATED:20231124T085413Z
LAST-MODIFIED:20231124T085413Z
URL:https://www.badalona.cat/ca/actualitat/agenda/35950
END:VEVENT
BEGIN:VTIMEZONE
TZID:Europe/Madrid
X-LIC-LOCATION:Europe/Madrid
BEGIN:DAYLIGHT
DTSTART:20230326T030000
TZNAME:CEST
TZOFFSETFROM:+0100
TZOFFSETTO:+0200
END:DAYLIGHT
END:VTIMEZONE
END:VCALENDAR
