BEGIN:VCALENDAR
VERSION:2.0
PRODID:-//Plone.org//NONSGML plone.app.event//EN
X-WR-TIMEZONE:Europe/Madrid
BEGIN:VEVENT
SUMMARY:48 H OPEN HOUSE BARCELONA
DTSTART;TZID=Europe/Madrid:20231021T100000
DTEND;TZID=Europe/Madrid:20231022T210000
DTSTAMP:20260424T021243Z
UID:fced4e87e3c74c5d929d11b0d8a3e66b@www.badalona.cat
CREATED:20231124T085413Z
LAST-MODIFIED:20231124T085413Z
URL:https://www.badalona.cat/ca/actualitat/agenda/35949
END:VEVENT
BEGIN:VTIMEZONE
TZID:Europe/Madrid
X-LIC-LOCATION:Europe/Madrid
BEGIN:DAYLIGHT
DTSTART:20230326T030000
TZNAME:CEST
TZOFFSETFROM:+0100
TZOFFSETTO:+0200
END:DAYLIGHT
END:VTIMEZONE
END:VCALENDAR
