BEGIN:VCALENDAR
VERSION:2.0
PRODID:-//Plone.org//NONSGML plone.app.event//EN
X-WR-TIMEZONE:Europe/Madrid
BEGIN:VEVENT
SUMMARY:Visita guiada a l'exposició '50 anys Camí. Escultures' amb els p
 oetes
DTSTART;TZID=Europe/Madrid:20231022T110000
DTEND;TZID=Europe/Madrid:20231022T123000
DTSTAMP:20260424T041951Z
UID:e44969f98e9a47fda08c55337c3035cd@www.badalona.cat
CREATED:20231124T085413Z
LAST-MODIFIED:20231124T085413Z
URL:https://www.badalona.cat/ca/actualitat/agenda/35947
END:VEVENT
BEGIN:VTIMEZONE
TZID:Europe/Madrid
X-LIC-LOCATION:Europe/Madrid
BEGIN:DAYLIGHT
DTSTART:20230326T030000
TZNAME:CEST
TZOFFSETFROM:+0100
TZOFFSETTO:+0200
END:DAYLIGHT
END:VTIMEZONE
END:VCALENDAR
