BEGIN:VCALENDAR
VERSION:2.0
PRODID:-//Plone.org//NONSGML plone.app.event//EN
X-WR-TIMEZONE:Europe/Madrid
BEGIN:VEVENT
SUMMARY:'PENOMBRES'\, La Dramàtica d'El Círcol
DTSTART;TZID=Europe/Madrid:20231021T210000
DTEND;TZID=Europe/Madrid:20231021T223000
DTSTAMP:20260424T021405Z
UID:112cfe6e33854b3197b64d5ed037c98f@www.badalona.cat
CREATED:20231124T085413Z
LAST-MODIFIED:20231124T085413Z
URL:https://www.badalona.cat/ca/actualitat/agenda/35937
END:VEVENT
BEGIN:VTIMEZONE
TZID:Europe/Madrid
X-LIC-LOCATION:Europe/Madrid
BEGIN:DAYLIGHT
DTSTART:20230326T030000
TZNAME:CEST
TZOFFSETFROM:+0100
TZOFFSETTO:+0200
END:DAYLIGHT
END:VTIMEZONE
END:VCALENDAR
