BEGIN:VCALENDAR
VERSION:2.0
PRODID:-//Plone.org//NONSGML plone.app.event//EN
X-WR-TIMEZONE:Europe/Madrid
BEGIN:VEVENT
SUMMARY:Presentació "L'any que vaig estimar Ava Gardner"
DTSTART;TZID=Europe/Madrid:20231019T190000
DTEND;TZID=Europe/Madrid:20231019T203000
DTSTAMP:20260424T021404Z
UID:418ba84278ef458db3e6b11f5c77380a@www.badalona.cat
CREATED:20231124T085412Z
LAST-MODIFIED:20231124T085412Z
URL:https://www.badalona.cat/ca/actualitat/agenda/35931
END:VEVENT
BEGIN:VTIMEZONE
TZID:Europe/Madrid
X-LIC-LOCATION:Europe/Madrid
BEGIN:DAYLIGHT
DTSTART:20230326T030000
TZNAME:CEST
TZOFFSETFROM:+0100
TZOFFSETTO:+0200
END:DAYLIGHT
END:VTIMEZONE
END:VCALENDAR
