BEGIN:VCALENDAR
VERSION:2.0
PRODID:-//Plone.org//NONSGML plone.app.event//EN
X-WR-TIMEZONE:Europe/Madrid
BEGIN:VEVENT
SUMMARY:PRESENTACIÓ DEL LLIBRE "LA SUPERPOTÈNCIA RENOVABLE"
DTSTART;TZID=Europe/Madrid:20231019T190000
DTEND;TZID=Europe/Madrid:20231019T200000
DTSTAMP:20260424T055152Z
UID:f76364a1c09c40a188984d0a8f10f78c@www.badalona.cat
CREATED:20231124T085412Z
LAST-MODIFIED:20231124T085412Z
URL:https://www.badalona.cat/ca/actualitat/agenda/35930
END:VEVENT
BEGIN:VTIMEZONE
TZID:Europe/Madrid
X-LIC-LOCATION:Europe/Madrid
BEGIN:DAYLIGHT
DTSTART:20230326T030000
TZNAME:CEST
TZOFFSETFROM:+0100
TZOFFSETTO:+0200
END:DAYLIGHT
END:VTIMEZONE
END:VCALENDAR
