BEGIN:VCALENDAR
VERSION:2.0
PRODID:-//Plone.org//NONSGML plone.app.event//EN
X-WR-TIMEZONE:Europe/Madrid
BEGIN:VEVENT
SUMMARY:'Las buenas compañías' - Cicle Gaudí
DTSTART;TZID=Europe/Madrid:20231018T200000
DTEND;TZID=Europe/Madrid:20231018T213500
DTSTAMP:20260424T031603Z
UID:2464ef825ee94fd4ba4ac19c90be1edd@www.badalona.cat
CREATED:20231124T085412Z
LAST-MODIFIED:20231124T085412Z
URL:https://www.badalona.cat/ca/actualitat/agenda/35929
END:VEVENT
BEGIN:VTIMEZONE
TZID:Europe/Madrid
X-LIC-LOCATION:Europe/Madrid
BEGIN:DAYLIGHT
DTSTART:20230326T030000
TZNAME:CEST
TZOFFSETFROM:+0100
TZOFFSETTO:+0200
END:DAYLIGHT
END:VTIMEZONE
END:VCALENDAR
