BEGIN:VCALENDAR
VERSION:2.0
PRODID:-//Plone.org//NONSGML plone.app.event//EN
X-WR-TIMEZONE:Europe/Madrid
BEGIN:VEVENT
SUMMARY:Sóc un Blop! - Laboratori de lectura
DTSTART;TZID=Europe/Madrid:20231018T173000
DTEND;TZID=Europe/Madrid:20231018T190000
DTSTAMP:20260424T032407Z
UID:c82201cca9b541ab99dfb954de2f520e@www.badalona.cat
CREATED:20231124T085412Z
LAST-MODIFIED:20231124T085412Z
URL:https://www.badalona.cat/ca/actualitat/agenda/35925
END:VEVENT
BEGIN:VTIMEZONE
TZID:Europe/Madrid
X-LIC-LOCATION:Europe/Madrid
BEGIN:DAYLIGHT
DTSTART:20230326T030000
TZNAME:CEST
TZOFFSETFROM:+0100
TZOFFSETTO:+0200
END:DAYLIGHT
END:VTIMEZONE
END:VCALENDAR
