BEGIN:VCALENDAR
VERSION:2.0
PRODID:-//Plone.org//NONSGML plone.app.event//EN
X-WR-TIMEZONE:Europe/Madrid
BEGIN:VEVENT
SUMMARY:"Pedro Páramo"\, de Juan Rulfo. Per Blanca Bravo - 'El viatge a l
 a literatura'
DTSTART;TZID=Europe/Madrid:20231017T190000
DTEND;TZID=Europe/Madrid:20231017T203000
DTSTAMP:20260424T032407Z
UID:ba1965835bac4c459c8b5fc0b690b54b@www.badalona.cat
CREATED:20231124T085412Z
LAST-MODIFIED:20231124T085412Z
URL:https://www.badalona.cat/ca/actualitat/agenda/35924
END:VEVENT
BEGIN:VTIMEZONE
TZID:Europe/Madrid
X-LIC-LOCATION:Europe/Madrid
BEGIN:DAYLIGHT
DTSTART:20230326T030000
TZNAME:CEST
TZOFFSETFROM:+0100
TZOFFSETTO:+0200
END:DAYLIGHT
END:VTIMEZONE
END:VCALENDAR
