BEGIN:VCALENDAR
VERSION:2.0
PRODID:-//Plone.org//NONSGML plone.app.event//EN
X-WR-TIMEZONE:Europe/Madrid
BEGIN:VEVENT
SUMMARY:Taller : Any Picasso: Coneguem l'artista
DTSTART;TZID=Europe/Madrid:20231016T180000
DTEND;TZID=Europe/Madrid:20231016T190000
DTSTAMP:20260424T021203Z
UID:5f9db2846d694b14966a0dda238c751a@www.badalona.cat
CREATED:20231124T085412Z
LAST-MODIFIED:20231124T085412Z
URL:https://www.badalona.cat/ca/actualitat/agenda/35921
END:VEVENT
BEGIN:VTIMEZONE
TZID:Europe/Madrid
X-LIC-LOCATION:Europe/Madrid
BEGIN:DAYLIGHT
DTSTART:20230326T030000
TZNAME:CEST
TZOFFSETFROM:+0100
TZOFFSETTO:+0200
END:DAYLIGHT
END:VTIMEZONE
END:VCALENDAR
