BEGIN:VCALENDAR
VERSION:2.0
PRODID:-//Plone.org//NONSGML plone.app.event//EN
X-WR-TIMEZONE:Europe/Madrid
BEGIN:VEVENT
SUMMARY:Visita guiada a la fàbrica de l'Anís del Mono 12:30 h - 15 octub
 re
DTSTART;TZID=Europe/Madrid:20231015T123000
DTEND;TZID=Europe/Madrid:20231015T140000
DTSTAMP:20260424T000851Z
UID:09da689b2e8144c5afe7b9e395182966@www.badalona.cat
CREATED:20231124T085411Z
LAST-MODIFIED:20231124T085411Z
URL:https://www.badalona.cat/ca/actualitat/agenda/35908
END:VEVENT
BEGIN:VTIMEZONE
TZID:Europe/Madrid
X-LIC-LOCATION:Europe/Madrid
BEGIN:DAYLIGHT
DTSTART:20230326T030000
TZNAME:CEST
TZOFFSETFROM:+0100
TZOFFSETTO:+0200
END:DAYLIGHT
END:VTIMEZONE
END:VCALENDAR
