BEGIN:VCALENDAR
VERSION:2.0
PRODID:-//Plone.org//NONSGML plone.app.event//EN
X-WR-TIMEZONE:Europe/Madrid
BEGIN:VEVENT
SUMMARY:Històries de lletres - espectacle
DTSTART;TZID=Europe/Madrid:20231009T173000
DTEND;TZID=Europe/Madrid:20231009T183000
DTSTAMP:20260424T021226Z
UID:48b05ffeaf224058a894e11c5d3fbc71@www.badalona.cat
CREATED:20231124T085411Z
LAST-MODIFIED:20231124T085411Z
URL:https://www.badalona.cat/ca/actualitat/agenda/35896
END:VEVENT
BEGIN:VTIMEZONE
TZID:Europe/Madrid
X-LIC-LOCATION:Europe/Madrid
BEGIN:DAYLIGHT
DTSTART:20230326T030000
TZNAME:CEST
TZOFFSETFROM:+0100
TZOFFSETTO:+0200
END:DAYLIGHT
END:VTIMEZONE
END:VCALENDAR
